BEGIN:VCALENDAR
VERSION:2.0
PRODID:icalendar-ruby
CALSCALE:GREGORIAN
METHOD:PUBLISH
BEGIN:VEVENT
DTSTAMP:20260422T044744Z
UID:10-2358864@hungerpreventioncouncil.com
DTSTART:20261012T210000Z
DTEND:20261012T230000Z
CLASS:PUBLIC
CREATED:20260421T185749
DESCRIPTION:
LAST-MODIFIED:20260421T185749
LOCATION:Pierce County Food Pantry\, Ellsworth
SUMMARY:Pantry Hours
URL;VALUE=URI:https://hungerpreventioncouncil.com/events/pantry-hours--10/2
 026-10-12
END:VEVENT
END:VCALENDAR
