BEGIN:VCALENDAR
VERSION:2.0
PRODID:icalendar-ruby
CALSCALE:GREGORIAN
METHOD:PUBLISH
BEGIN:VEVENT
DTSTAMP:20260422T074813Z
UID:10-2358866@hungerpreventioncouncil.com
DTSTART:20261026T210000Z
DTEND:20261026T230000Z
CLASS:PUBLIC
CREATED:20260421T185749
DESCRIPTION:
LAST-MODIFIED:20260421T185749
LOCATION:Pierce County Food Pantry\, Ellsworth
SUMMARY:Pantry Hours
URL;VALUE=URI:https://hungerpreventioncouncil.com/events/pantry-hours--10/2
 026-10-26
END:VEVENT
END:VCALENDAR
