BEGIN:VCALENDAR
VERSION:2.0
PRODID:icalendar-ruby
CALSCALE:GREGORIAN
METHOD:PUBLISH
BEGIN:VEVENT
DTSTAMP:20260421T222201Z
UID:7-2356900@hungerpreventioncouncil.com
DTSTART:20260917T143000Z
DTEND:20260917T170000Z
CLASS:PUBLIC
CREATED:20260421T161910
DESCRIPTION:
LAST-MODIFIED:20260421T161910
LOCATION:Pierce County Food Pantry\, Ellsworth
SUMMARY:Pantry Hours
URL;VALUE=URI:https://hungerpreventioncouncil.com/events/pantry-hours--7/20
 26-09-17
END:VEVENT
END:VCALENDAR
