BEGIN:VCALENDAR
VERSION:2.0
PRODID:icalendar-ruby
CALSCALE:GREGORIAN
METHOD:PUBLISH
BEGIN:VEVENT
DTSTAMP:20260422T032932Z
UID:7-2358215@hungerpreventioncouncil.com
DTSTART:20261008T143000Z
DTEND:20261008T170000Z
CLASS:PUBLIC
CREATED:20260421T185748
DESCRIPTION:
LAST-MODIFIED:20260421T185748
LOCATION:Pierce County Food Pantry\, Ellsworth
SUMMARY:Pantry Hours
URL;VALUE=URI:https://hungerpreventioncouncil.com/events/pantry-hours--7/20
 26-10-08
END:VEVENT
END:VCALENDAR
