BEGIN:VCALENDAR
VERSION:2.0
PRODID:icalendar-ruby
CALSCALE:GREGORIAN
METHOD:PUBLISH
BEGIN:VEVENT
DTSTAMP:20260422T065506Z
UID:7-2358217@hungerpreventioncouncil.com
DTSTART:20261022T143000Z
DTEND:20261022T170000Z
CLASS:PUBLIC
CREATED:20260421T185748
DESCRIPTION:
LAST-MODIFIED:20260421T185748
LOCATION:Pierce County Food Pantry\, Ellsworth
SUMMARY:Pantry Hours
URL;VALUE=URI:https://hungerpreventioncouncil.com/events/pantry-hours--7/20
 26-10-22
END:VEVENT
END:VCALENDAR
