BEGIN:VCALENDAR
VERSION:2.0
PRODID:icalendar-ruby
CALSCALE:GREGORIAN
METHOD:PUBLISH
BEGIN:VEVENT
DTSTAMP:20260420T010042Z
UID:8-2340196@hungerpreventioncouncil.com
DTSTART:20260930T210000Z
DTEND:20260930T230000Z
CLASS:PUBLIC
CREATED:20260419T171955
DESCRIPTION:
LAST-MODIFIED:20260419T171955
LOCATION:Pierce County Food Pantry\, Ellsworth
SUMMARY:Pantry Hours
URL;VALUE=URI:https://hungerpreventioncouncil.com/events/pantry-hours--8/20
 26-09-30
END:VEVENT
END:VCALENDAR
