BEGIN:VCALENDAR
VERSION:2.0
PRODID:icalendar-ruby
CALSCALE:GREGORIAN
METHOD:PUBLISH
BEGIN:VEVENT
DTSTAMP:20260420T024132Z
UID:8-2341507@hungerpreventioncouncil.com
DTSTART:20261007T210000Z
DTEND:20261007T230000Z
CLASS:PUBLIC
CREATED:20260419T205955
DESCRIPTION:
LAST-MODIFIED:20260419T205955
LOCATION:Pierce County Food Pantry\, Ellsworth
SUMMARY:Pantry Hours
URL;VALUE=URI:https://hungerpreventioncouncil.com/events/pantry-hours--8/20
 26-10-07
END:VEVENT
END:VCALENDAR
