BEGIN:VCALENDAR
VERSION:2.0
PRODID:icalendar-ruby
CALSCALE:GREGORIAN
METHOD:PUBLISH
BEGIN:VEVENT
DTSTAMP:20260420T075615Z
UID:8-2342820@hungerpreventioncouncil.com
DTSTART:20261028T210000Z
DTEND:20261028T230000Z
CLASS:PUBLIC
CREATED:20260420T003658
DESCRIPTION:
LAST-MODIFIED:20260420T003658
LOCATION:Pierce County Food Pantry\, Ellsworth
SUMMARY:Pantry Hours
URL;VALUE=URI:https://hungerpreventioncouncil.com/events/pantry-hours--8/20
 26-10-28
END:VEVENT
END:VCALENDAR
